BEGIN:VCALENDAR
VERSION:2.0
PRODID:-//TECHNICAL TEXTILES TODAY - ECPv6.6.2//NONSGML v1.0//EN
CALSCALE:GREGORIAN
METHOD:PUBLISH
X-WR-CALNAME:TECHNICAL TEXTILES TODAY
X-ORIGINAL-URL:https://www.technicaltextiles.in
X-WR-CALDESC:Events for TECHNICAL TEXTILES TODAY
REFRESH-INTERVAL;VALUE=DURATION:PT1H
X-Robots-Tag:noindex
X-PUBLISHED-TTL:PT1H
BEGIN:VTIMEZONE
TZID:UTC
BEGIN:STANDARD
TZOFFSETFROM:+0000
TZOFFSETTO:+0000
TZNAME:UTC
DTSTART:20260101T000000
END:STANDARD
END:VTIMEZONE
BEGIN:VEVENT
DTSTART;TZID=UTC:20260321T080000
DTEND;TZID=UTC:20260424T170000
DTSTAMP:20260423T174757
CREATED:20260306T063312Z
LAST-MODIFIED:20260306T063312Z
UID:29849-1774080000-1777050000@www.technicaltextiles.in
SUMMARY:Techtextil 2026
DESCRIPTION:Techtextil 2026 is the world’s leading international trade fair for technical textiles and nonwoven materials. The event presents innovations across 12 application areas including medical textiles\, protective textiles\, composites\, automotive textiles\, and industrial textiles. It brings together manufacturers\, researchers\, and industry professionals from across the globe to explore advanced textile technologies.
URL:https://www.technicaltextiles.in/event/techtextil-2026-2/
LOCATION:Messe Frankfurt\, Frankfurt\, Germany
CATEGORIES:Technical Textiles,Trade Exhibition
ATTACH;FMTTYPE=image/webp:https://www.technicaltextiles.in/wp-content/uploads/2026/03/Screenshot2025-09-17at13-54-23TechtextilForum2026OpensCallforPaperstoIndustryInnovators—TEXINTEL.webp
END:VEVENT
BEGIN:VEVENT
DTSTART;TZID=UTC:20260402T103000
DTEND;TZID=UTC:20260505T183000
DTSTAMP:20260423T174757
CREATED:20260305T151119Z
LAST-MODIFIED:20260305T151119Z
UID:29842-1775125800-1778005800@www.technicaltextiles.in
SUMMARY:Morocco Textile & Fashion Machinery Expo 2026
DESCRIPTION:
URL:https://www.technicaltextiles.in/event/morocco-textile-fashion-machinery-expo-2026/
LOCATION:OFEC(Casablanca International Fairground) Casablanca/ Morocco
CATEGORIES:Technical Textiles
ATTACH;FMTTYPE=image/webp:https://www.technicaltextiles.in/wp-content/uploads/2026/03/Morocco-Fashion-Tex-Expo-2026-02-05-April-2026-Morocco.webp
END:VEVENT
BEGIN:VEVENT
DTSTART;VALUE=DATE:20260421
DTEND;VALUE=DATE:20260425
DTSTAMP:20260423T174757
CREATED:20260305T124702Z
LAST-MODIFIED:20260305T124702Z
UID:29786-1776729600-1777075199@www.technicaltextiles.in
SUMMARY:Techtextil 2026
DESCRIPTION:Techtextil 2026 is a leading international trade fair focused on technical textiles and nonwovens. The exhibition covers applications across automotive\, aerospace\, construction\, industrial textiles\, medical textiles\, and protective textiles. Industry leaders\, manufacturers\, and researchers come together to showcase advanced materials\, machinery\, and innovations shaping the future of technical textiles.
URL:https://www.technicaltextiles.in/event/techtextil-2026/
LOCATION:Messe Berlin\, Germany
END:VEVENT
BEGIN:VEVENT
DTSTART;VALUE=DATE:20260421
DTEND;VALUE=DATE:20260425
DTSTAMP:20260423T174757
CREATED:20260310T005822Z
LAST-MODIFIED:20260310T005822Z
UID:30075-1776729600-1777075199@www.technicaltextiles.in
SUMMARY:Texprocess 2026
DESCRIPTION:Texprocess 2026 is a leading international trade fair for the processing of textile and flexible materials. The exhibition showcases innovations in garment manufacturing\, textile processing machinery\, automation technologies\, and smart manufacturing solutions.
URL:https://www.technicaltextiles.in/event/texprocess-2026/
LOCATION:Messe Frankfurt\, Frankfurt\, Germany
CATEGORIES:Machinery,Technical Textiles,Trade Exhibition
ATTACH;FMTTYPE=image/jpeg:https://www.technicaltextiles.in/wp-content/uploads/2026/03/images-2.jpg
END:VEVENT
BEGIN:VEVENT
DTSTART;TZID=UTC:20260421T080000
DTEND;TZID=UTC:20260424T170000
DTSTAMP:20260423T174757
CREATED:20260310T010953Z
LAST-MODIFIED:20260310T010953Z
UID:30078-1776758400-1777050000@www.technicaltextiles.in
SUMMARY:INDEX 2026 – Nonwovens Exhibition
DESCRIPTION:INDEX 2026 is the world’s largest exhibition dedicated to nonwoven materials and technologies. It showcases innovations in hygiene products\, filtration fabrics\, medical nonwovens\, geotextiles\, and industrial textiles.
URL:https://www.technicaltextiles.in/event/index-2026-nonwovens-exhibition-2/
LOCATION:Palexpo\, Geneva\, Switzerland
CATEGORIES:Nonwovens,Technical Textiles
ATTACH;FMTTYPE=image/png:https://www.technicaltextiles.in/wp-content/uploads/2026/03/images-1-1.png
END:VEVENT
END:VCALENDAR